BEGIN:VCALENDAR
VERSION:2.0
PRODID:-//ChamberMaster//Event Calendar 2.0//EN
METHOD:PUBLISH
X-PUBLISHED-TTL:P3D
REFRESH-INTERVAL:P3D
CALSCALE:GREGORIAN
BEGIN:VEVENT
DTSTART:20180124T133000Z
DTEND:20180124T150000Z
X-MICROSOFT-CDO-ALLDAYEVENT:FALSE
SUMMARY:Breakfast & Learn - 2018 HR Update
DESCRIPTION:Hot Topics for Employers in 2018\n\n \n\nIs your New Year's resolution for 2018 to stay up-to-date on the latest in labor and employment law? Join this presentation with Attorneys John Gannon and Erica Flores of Skoler\, Abbott & Presser\, P.C.\, one of the leading labor and employment law firms serving employers in New England\, for a discussion aimed to prepare you to enter the New Year with a better understanding of state and federal laws employers need to be aware of in 2018. This presentation will focus on the continuing barrage of new laws and cases at the state and federal level impacting Massachusetts employers in 2018\, as well as proposed legislation that should be on your radar.  \n\n \n\nJoin us for a discussion on what to expect in 2018\, including:\n\n\n	Major cases from the National Labor Relations Board scaling back Obama-era restrictions on Handbooks and other topics\n	The effect of MA's marijuana laws on employers\n	Overview of the upcoming Pay Equity law\n	Possible minimum wage increases in Massachusetts\n	Is paid Family and Medical Leave coming to Massachusetts?\n	New EMAC supplemental contribution penalty\n\n\nThis Breakfast & Learn program is a training/ development event scheduled during morning hours. Our Chamber Breakfast & Learn includes a continental breakfast of pastries\, muffins\, fruit\, yogurt and coffee\, tea and juices to boost the day's activity with good nourishment - after all\, we are asking attendees to give up work time.\n\n \n\n\n\n \n\nGuest Speakers: \nAtty. Erica Flores & Atty. John S. Gannon \n\nSkoler\, Abbott & Presser\, P.C. \n\nwww.skoler-abbott.com\n\nwww.blog.skoler-abbott.com\n\nAbout the Speakers\nJohn S. Gannon has defended employers against claims of discrimination\, retaliation\, harassment\, and wrongful termination\, as well as actions arising under the Family Medical Leave Act and wage & hour law. John also has experience with lawsuits seeking to enforce restrictive covenants and protect trade secrets. John frequently assists employers in litigation avoidance strategies. He has reviewed numerous employee handbooks and related polices for compliance\, as well as employment and non-compete agreements. He regularly counsels employers on compliance with state and federal laws\, including the Americans with Disabilities Act\, Fair Labor Standards Act\, and Occupational Health and Safety Act. John is a regular contributor to business publications and to the Massachusetts Employment Law Letter.\n\n \n\nErica E. Flores joined Skoler\, Abbott & Presser in 2013.  Erica has successfully defended employers in single-plaintiff and class action discrimination\, harassment and retaliation litigation\, wage and hour litigation\, and breach of contract litigation before state and federal courts and administrative agencies.  She has also defended employers\, employee benefit plans and benefit plan fiduciaries against a variety of ERISA breach of fiduciary duty\, prohibited transaction and benefits claims.  In addition to her litigation practice\, Erica regularly advises clients with respect to day-to-day employment issues\, including decisions regarding adverse employment actions and litigation avoidance.  She is a regular contributor to the Massachusetts Employment Law Letter\, and a member of the American Bar Association\, the Massachusetts Bar Association and the Hampden County Bar Association.  Erica is also a member of the Board of Directors of the Food Bank of Western Massachusetts.
X-ALT-DESC;FMTTYPE=text/html:<p style="box-sizing: border-box\; margin: 0px 0px 10px\; font-size: 16px\; color: rgb(0\, 82\, 121)\; font-family: Questrial\, sans-serif\;"><span style="color:#000000\;"><strong><span style="font-family:times new roman\,serif\;"><span style="font-size:12.0pt\;">Hot Topics for Employers in 2018</span></span></strong><br />\n&nbsp\;<br />\n<span style="font-family:times new roman\,serif\;"><span style="font-size:12.0pt\;">Is your New Year&rsquo\;s resolution for 2018 to stay up-to-date on the latest in labor and employment law? Join this presentation with Attorneys John Gannon and Erica Flores of Skoler\, Abbott &amp\; Presser\, P.C.\, one of the leading labor and employment law firms serving employers in New England\, for a discussion aimed to prepare you to enter the New Year with a better understanding of state and federal laws employers need to be aware of in 2018. This presentation will focus on the continuing barrage of new laws and cases at the state and federal level impacting Massachusetts employers in 2018\, as well as proposed legislation that should be on your radar.&nbsp\; </span></span></span><br />\n&nbsp\;<br />\n<span style="color:#000000\;"><span style="font-family:times new roman\,serif\;"><span style="font-size:12.0pt\;">Join us for a discussion on what to expect in 2018\, including:</span></span></span></p>\n\n<ul>\n	<li style="background:white\;"><span style="color:#000000\;"><span style="font-family:times new roman\,serif\;"><span style="font-size:12.0pt\;">Major cases from the National Labor Relations Board scaling back Obama-era restrictions on Handbooks and other topics</span></span></span></li>\n	<li style="background:white\;"><span style="color:#000000\;"><span style="font-family:times new roman\,serif\;"><span style="font-size:12.0pt\;">The effect of MA&rsquo\;s marijuana laws on employers</span></span></span></li>\n	<li style="background:white\;"><span style="color:#000000\;"><span style="font-family:times new roman\,serif\;"><span style="font-size:12.0pt\;">Overview of the upcoming Pay Equity law</span></span></span></li>\n	<li style="background:white\;"><span style="color:#000000\;"><span style="font-family:times new roman\,serif\;"><span style="font-size:12.0pt\;">Possible minimum wage increases in Massachusetts</span></span></span></li>\n	<li style="background:white\;"><span style="color:#000000\;"><span style="font-family:times new roman\,serif\;"><span style="font-size:12.0pt\;">Is paid Family and Medical Leave coming to Massachusetts?</span></span></span></li>\n	<li style="background:white\;"><span style="color:#000000\;"><span style="font-family:times new roman\,serif\;"><span style="font-size:12.0pt\;">New EMAC supplemental contribution penalty</span></span></span></li>\n</ul>\n\n<div style="background-image:initial\;background-position:initial\;background-size:initial\;background-repeat:initial\;background-attachment:initial\;background-origin:initial\;background-clip:initial\;"><span style="color:#000000\;"><span style="font-family:times new roman\,serif\;"><span style="font-size:12.0pt\;">This Breakfast &amp\; Learn program is a training/ development event scheduled during morning hours. Our Chamber Breakfast &amp\; Learn includes a continental breakfast of pastries\, muffins\, fruit\, yogurt and coffee\, tea and juices to boost the day&rsquo\;s activity with good nourishment - after all\, we are asking attendees to give up work time.</span></span></span><br />\n&nbsp\;</div>\n\n<p style="box-sizing: border-box\; margin: 0px 0px 10px\; font-size: 16px\; color: rgb(0\, 82\, 121)\; font-family: Questrial\, sans-serif\;"><br />\n&nbsp\;</p>\n\n<p style="box-sizing: border-box\; margin: 0px 0px 1rem\; font-size: 16px\; color: rgb(26\, 26\, 26)\; background-color: rgb(255\, 255\, 255)\; font-family: ff-more-web-pro\;"><span style="font-size:16px\;"><span style="font-family:times new roman\;"><span font-size:="" trebuchet="">Guest Speakers:&nbsp\;</span></span></span></p>\n<span style="font-family:times new roman\;"><span style="font-size:16px\;">Atty. Erica Flores&nbsp\;&amp\; Atty. John S. Gannon&nbsp\;<br />\nSkoler\, Abbott &amp\; Presser\, P.C.&nbsp\;<br />\n<a href="http://www.skoler-abbott.com">www.skoler-abbott.com</a><br />\n<a href="http://www.blog.skoler-abbott.com">www.blog.skoler-abbott.com</a></span></span>\n\n<p><u style="font-size: 12pt\; font-family: &quot\;times new roman&quot\;\;">About the Speakers</u></p>\n<span style="font-family:times new roman\;"><span new="" style="font-size: 16px\; font-family: " times=""><span style="font-size: 12pt\;"><strong>John S. Gannon</strong> has defended employers against claims of discrimination\, retaliation\, harassment\, and wrongful termination\, as well as actions arising under the Family Medical Leave Act and wage &amp\; hour law. John also has experience with lawsuits seeking to enforce restrictive covenants and protect trade secrets. John frequently assists employers in litigation avoidance strategies. He has reviewed numerous employee handbooks and related polices for compliance\, as well as employment and non-compete agreements. He regularly counsels employers on compliance with state and federal laws\, including the Americans with Disabilities Act\, Fair Labor Standards Act\, and Occupational Health and Safety Act. John is a regular contributor to business publications and to the Massachusetts Employment Law Letter.</span></span><br style="color: rgb(0\, 82\, 121)\; font-family: Questrial\, sans-serif\; font-size: 16px\;" />\n<span style="font-size: 16px\;">&nbsp\;</span><br style="color: rgb(0\, 82\, 121)\; font-family: Questrial\, sans-serif\; font-size: 16px\;" />\n<span new="" style="font-size: 16px\; font-family: " times=""><span style="font-size: 12pt\;"><strong>Erica E. Flores</strong> joined&nbsp\;Skoler\, Abbott &amp\; Presser in 2013.&nbsp\; Erica has successfully defended employers in single-plaintiff and class action discrimination\, harassment and retaliation litigation\, wage and hour litigation\, and breach of contract litigation before state and federal courts and administrative agencies.&nbsp\; She has also defended employers\, employee benefit plans and benefit plan fiduciaries against a variety of&nbsp\;ERISA&nbsp\;breach of fiduciary duty\, prohibited transaction and benefits claims.&nbsp\; In addition to her litigation practice\, Erica regularly advises clients with respect to day-to-day employment issues\, including decisions regarding adverse employment actions and litigation avoidance.&nbsp\; She is a regular contributor to the Massachusetts Employment Law Letter\, and a member of the American Bar Association\, the Massachusetts Bar Association and the Hampden County Bar Association.&nbsp\; Erica is also a member of the Board of Directors of the Food Bank of Western Massachusetts.</span></span></span><br style="color: rgb(0\, 82\, 121)\; font-family: Questrial\, sans-serif\; font-size: 16px\;" />\n&nbsp\;
LOCATION:Collegian Court 89 Park Street Chicopee\, MA Directions
UID:e.2510.358
SEQUENCE:3
DTSTAMP:20260425T034634Z
URL:https://chicopee-gzcms.preview.gochambermaster.com/events/details/breakfast-learn-2018-hr-update-358
END:VEVENT

END:VCALENDAR
