BEGIN:VCALENDAR
VERSION:2.0
PRODID:-//ChamberMaster//Event Calendar 2.0//EN
METHOD:PUBLISH
X-PUBLISHED-TTL:P3D
REFRESH-INTERVAL:P3D
CALSCALE:GREGORIAN
BEGIN:VEVENT
DTSTART:20190423T223000Z
DTEND:20190424T010000Z
X-MICROSOFT-CDO-ALLDAYEVENT:FALSE
SUMMARY:Chicope Cultural Council Paint & Sip
DESCRIPTION:Join the Chicopee Cultural Council for a "Paint and Sip" event at the Collegian Court on Tuesday \, April 23rd starting at 6:30pm. Tickets are $30 and space is limited. Please email chicopeeculturalcouncil@yahoo.com or call 347-558-5244.
X-ALT-DESC;FMTTYPE=text/html:Join the Chicopee Cultural Council for a &quot\;Paint and Sip&quot\; event at the Collegian Court on Tuesday \, April 23rd starting at 6:30pm. Tickets are $30 and space is limited. Please email chicopeeculturalcouncil@yahoo.com or call 347-558-5244.
LOCATION:Collegian Court 89 Court St\, Chicopee
UID:e.2510.506
SEQUENCE:3
DTSTAMP:20260423T230522Z
URL:https://chicopee-gzcms.preview.gochambermaster.com/events/details/chicope-cultural-council-paint-sip-506
END:VEVENT

END:VCALENDAR
