BEGIN:VCALENDAR
VERSION:2.0
PRODID:-//ChamberMaster//Event Calendar 2.0//EN
METHOD:PUBLISH
X-PUBLISHED-TTL:P3D
REFRESH-INTERVAL:P3D
CALSCALE:GREGORIAN
BEGIN:VEVENT
DTSTART:20190601T020000Z
DTEND:20190531T230000Z
X-MICROSOFT-CDO-ALLDAYEVENT:FALSE
SUMMARY:Chicopee Chamber 2019 Golf Tournament
DESCRIPTION:$125 per golfer includes\n\n18 holes with cart\n\nGolfer's Gift\n\nLunch and Dinner\n\n\n\nContests\n\n Hole-in-One Prizes\n\nTexas Hold'em\n\nLongest Drive (Men & Women)\n\nClosest to the Pin\n\nClosest to the Line\n\nRaffle\n\n12:00 p.m.   Lunch\n\n5:00 p.m.   Dinner\n\n\n\nGolfer's Package\n\nPurchase the GOLFER'S PACKAGE and receive the following:\n\n  25 Raffle Tickets\n\n  Set of golf balls\n\n  One mulligan\n\nLIVE Auction\n\nLive auction memorabilia will be available - Details of exact pieces will be available prior to the outing date.
X-ALT-DESC;FMTTYPE=text/html:<div class="event-details" style="box-sizing: border-box\; color: rgb(51\, 51\, 51)\; font-family: Arial\, Helvetica\, sans-serif\; font-size: 12px\; background-image: initial\; background-position: initial\; background-size: initial\; background-repeat: initial\; background-attachment: initial\; background-origin: initial\; background-clip: initial\; margin: 0px 0px 40px\; padding: 0px\; border: 0px\; outline: 0px\; vertical-align: baseline\; text-align: center\;">\n<div class="event-address" style="box-sizing: border-box\; margin: 7px 0px 0px\; padding: 0px\; border: 0px\; outline: 0px\; font-size: 14px\; vertical-align: baseline\; background-image: initial\; background-position: initial\; background-size: initial\; background-repeat: initial\; background-attachment: initial\; background-origin: initial\; background-clip: initial\;">\n<p style="box-sizing: border-box\; margin: 0px 0px 10px\; font-size: 1rem\;"><strong>&nbsp\;$125 per golfer includes</strong><br style="box-sizing: border-box\;" />\n18 holes with cart<br style="box-sizing: border-box\;" />\nGolfer&rsquo\;s Gift<br style="box-sizing: border-box\;" />\nLunch and Dinner<br style="box-sizing: border-box\;" />\n<br style="box-sizing: border-box\;" />\n<strong><u style="box-sizing: border-box\;">Contests</u></strong><br style="box-sizing: border-box\;" />\n&nbsp\;Hole-in-One Prizes<br style="box-sizing: border-box\;" />\nTexas Hold&#39\;em<br style="box-sizing: border-box\;" />\nLongest Drive (Men &amp\; Women)<br style="box-sizing: border-box\;" />\nClosest to the Pin<br style="box-sizing: border-box\;" />\nClosest to the Line<br style="box-sizing: border-box\;" />\nRaffle</p>\n\n<p style="box-sizing: border-box\; margin: 0px 0px 10px\; font-size: 1rem\;"><span style="box-sizing: border-box\; margin: 0px\; padding: 0px\; border: 0px\; outline: 0px\; vertical-align: baseline\; background-image: initial\; background-position: initial\; background-size: initial\; background-repeat: initial\; background-attachment: initial\; background-origin: initial\; background-clip: initial\;"><strong style="box-sizing: border-box\; margin: 0px\; padding: 0px\; border: 0px\; outline: 0px\; vertical-align: baseline\; background-image: initial\; background-position: initial\; background-size: initial\; background-repeat: initial\; background-attachment: initial\; background-origin: initial\; background-clip: initial\;">12:00 p.m.</strong>&nbsp\;&ndash\; Lunch</span><br style="box-sizing: border-box\;" />\n<span style="box-sizing: border-box\; margin: 0px\; padding: 0px\; border: 0px\; outline: 0px\; font-size: 20px\; vertical-align: baseline\; background-image: initial\; background-position: initial\; background-size: initial\; background-repeat: initial\; background-attachment: initial\; background-origin: initial\; background-clip: initial\;"><span style="box-sizing: border-box\; margin: 0px\; padding: 0px\; border: 0px\; outline: 0px\; font-size: 16px\; vertical-align: baseline\; background-image: initial\; background-position: initial\; background-size: initial\; background-repeat: initial\; background-attachment: initial\; background-origin: initial\; background-clip: initial\;"><strong style="box-sizing: border-box\; margin: 0px\; padding: 0px\; border: 0px\; outline: 0px\; vertical-align: baseline\; background-image: initial\; background-position: initial\; background-size: initial\; background-repeat: initial\; background-attachment: initial\; background-origin: initial\; background-clip: initial\;">5:00 p.m.</strong>&nbsp\;&ndash\; Dinner</span></span></p>\n</div>\n</div>\n\n<p align="center" style="box-sizing: border-box\; margin: 0px 0px 1em\; font-size: 1rem\; color: rgb(51\, 51\, 51)\; font-family: Arial\, Helvetica\, sans-serif\; background-image: initial\; background-position: initial\; background-size: initial\; background-repeat: initial\; background-attachment: initial\; background-origin: initial\; background-clip: initial\; padding: 0px\; border: 0px\; outline: 0px\; vertical-align: baseline\;"><em style="box-sizing: border-box\; margin: 0px\; padding: 0px\; border: 0px\; outline: 0px\; vertical-align: baseline\; background-image: initial\; background-position: initial\; background-size: initial\; background-repeat: initial\; background-attachment: initial\; background-origin: initial\; background-clip: initial\;"><strong style="box-sizing: border-box\; margin: 0px\; padding: 0px\; border: 0px\; outline: 0px\; vertical-align: baseline\; background-image: initial\; background-position: initial\; background-size: initial\; background-repeat: initial\; background-attachment: initial\; background-origin: initial\; background-clip: initial\;">Golfer&#39\;s Package</strong></em><br style="box-sizing: border-box\; margin: 0px\; padding: 0px\;" />\nPurchase the GOLFER&#39\;S PACKAGE&nbsp\;and receive the following:<br style="box-sizing: border-box\; margin: 0px\; padding: 0px\;" />\n&raquo\; 25 Raffle Tickets<br style="box-sizing: border-box\;" />\n&raquo\; Set of golf balls<br style="box-sizing: border-box\; margin: 0px\; padding: 0px\;" />\n&raquo\; One mulligan</p>\n\n<p align="center" style="box-sizing: border-box\; margin: 0px 0px 1em\; font-size: 1rem\; color: rgb(51\, 51\, 51)\; font-family: Arial\, Helvetica\, sans-serif\; background-image: initial\; background-position: initial\; background-size: initial\; background-repeat: initial\; background-attachment: initial\; background-origin: initial\; background-clip: initial\; padding: 0px\; border: 0px\; outline: 0px\; vertical-align: baseline\;"><span style="box-sizing: border-box\; margin: 0px\; padding: 0px\; border: 0px\; outline: 0px\; vertical-align: baseline\; background-image: initial\; background-position: initial\; background-size: initial\; background-repeat: initial\; background-attachment: initial\; background-origin: initial\; background-clip: initial\;"><strong style="box-sizing: border-box\; margin: 0px\; padding: 0px\; border: 0px\; outline: 0px\; vertical-align: baseline\; background-image: initial\; background-position: initial\; background-size: initial\; background-repeat: initial\; background-attachment: initial\; background-origin: initial\; background-clip: initial\;"><em style="box-sizing: border-box\; margin: 0px\; padding: 0px\; border: 0px\; outline: 0px\; vertical-align: baseline\; background-image: initial\; background-position: initial\; background-size: initial\; background-repeat: initial\; background-attachment: initial\; background-origin: initial\; background-clip: initial\;">LIVE Auction</em></strong></span><br style="box-sizing: border-box\; margin: 0px\; padding: 0px\;" />\nLive auction&nbsp\;memorabilia will be available -&nbsp\;Details of exact pieces will be available prior to the outing date.</p>\n\n<p align="center" style="box-sizing: border-box\; margin: 0px 0px 1em\; font-size: 1rem\; color: rgb(51\, 51\, 51)\; font-family: Arial\, Helvetica\, sans-serif\; background-image: initial\; background-position: initial\; background-size: initial\; background-repeat: initial\; background-attachment: initial\; background-origin: initial\; background-clip: initial\; padding: 0px\; border: 0px\; outline: 0px\; vertical-align: baseline\;">&nbsp\;</p>\n\n<p align="center" style="box-sizing: border-box\; margin: 0px 0px 1em\; font-size: 1rem\; color: rgb(51\, 51\, 51)\; font-family: Arial\, Helvetica\, sans-serif\; background-image: initial\; background-position: initial\; background-size: initial\; background-repeat: initial\; background-attachment: initial\; background-origin: initial\; background-clip: initial\; padding: 0px\; border: 0px\; outline: 0px\; vertical-align: baseline\;">&nbsp\;</p>\n
LOCATION:Chicopee Country Club 1290 Burnett Road Chicopee\, MA 01020
UID:e.2510.495
SEQUENCE:3
DTSTAMP:20260423T201955Z
URL:https://chicopee-gzcms.preview.gochambermaster.com/events/details/chicopee-chamber-2019-golf-tournament-495
END:VEVENT

END:VCALENDAR
