BEGIN:VCALENDAR
VERSION:2.0
PRODID:-//ChamberMaster//Event Calendar 2.0//EN
METHOD:PUBLISH
X-PUBLISHED-TTL:P3D
REFRESH-INTERVAL:P3D
CALSCALE:GREGORIAN
BEGIN:VEVENT
DTSTART:20190106T000500Z
DTEND:20190106T033000Z
X-MICROSOFT-CDO-ALLDAYEVENT:FALSE
SUMMARY:Chicopee Chamber Night at the Springfield Thunderbirds
DESCRIPTION:If you are a member of the Chicopee Chamber\, there is an exclusive opportunity for discounted tickets! The Tbirds will be wearing Throwback Indians Jerseys\, as well as taking on our rivals the Providence Bruins!\n\n\n\nIn addition to all of this\, we have reserved the once in a lifetime opportunity for any young fans associated with the Chamber to go down by the Thunderbirds locker room and greet the players as they take the ice! Order your tickets soon as this is a limited opportunity.\n\n\n\nThis is the link you can use to take advantage of this fun opportunity: https://springfieldthunderbirds.formstack.com/forms/jan_5th_chicopee_chamber_night
X-ALT-DESC;FMTTYPE=text/html:<span style="color: rgb(29\, 33\, 41)\; font-family: Helvetica\, Arial\, sans-serif\; font-size: 14px\; background-color: rgb(255\, 255\, 255)\;">If you are a member of the Chicopee Chamber\, there is an exclusive opportunity for discounted tickets!&nbsp\;</span><span style="color: rgb(29\, 33\, 41)\; font-family: Helvetica\, Arial\, sans-serif\; font-size: 14px\; background-color: rgb(255\, 255\, 255)\;">The Tbirds will be wearing Throwback Indians Jerseys\, as well as taking on our rivals the Providence Bruins!</span><br style="color: rgb(29\, 33\, 41)\; font-family: Helvetica\, Arial\, sans-serif\; font-size: 14px\; background-color: rgb(255\, 255\, 255)\;" />\n<br style="color: rgb(29\, 33\, 41)\; font-family: Helvetica\, Arial\, sans-serif\; font-size: 14px\; background-color: rgb(255\, 255\, 255)\;" />\n<span style="color: rgb(29\, 33\, 41)\; font-family: Helvetica\, Arial\, sans-serif\; font-size: 14px\; background-color: rgb(255\, 255\, 255)\;">In addition to all of this\, we have reserved the once in a lifetime opportunity for any young fans associated with the Chamber to go down by the Thunderbirds locker room and greet the players as they take the ice! Order your tickets soon as this is a limited opportunity.</span><br style="color: rgb(29\, 33\, 41)\; font-family: Helvetica\, Arial\, sans-serif\; font-size: 14px\; background-color: rgb(255\, 255\, 255)\;" />\n<br style="color: rgb(29\, 33\, 41)\; font-family: Helvetica\, Arial\, sans-serif\; font-size: 14px\; background-color: rgb(255\, 255\, 255)\;" />\n<span style="color: rgb(29\, 33\, 41)\; font-family: Helvetica\, Arial\, sans-serif\; font-size: 14px\;">This is the link you can use to take advantage of this fun opportunity:&nbsp\;</span><a data-lynx-mode="hover" data-lynx-uri="https://l.facebook.com/l.php?u=https%3A%2F%2Fspringfieldthunderbirds.formstack.com%2Fforms%2Fjan_5th_chicopee_chamber_night%3Ffbclid%3DIwAR0F7Yxo9n6xzPL7VZ78n00gcZYA1-q6cb-R6wpDKTAYd1u80jNg91zjrSM&amp\;h=AT3y96neq-PS52ibvw8Wz5iko0f7hrISh-HHSzC9F9XOiSSW8f3Vm85COwgiv5WE_4xZs64IoHvMiVGcyzdrjoTrZ0tx0adm3NgMWKauxeIfqYK8krxWBKKBJ-njYWLY" href="https://springfieldthunderbirds.formstack.com/forms/jan_5th_chicopee_chamber_night?fbclid=IwAR0F7Yxo9n6xzPL7VZ78n00gcZYA1-q6cb-R6wpDKTAYd1u80jNg91zjrSM" rel="nofollow noopener" style="color: rgb(54\, 88\, 153)\; cursor: pointer\; text-decoration-line: none\; font-family: Helvetica\, Arial\, sans-serif\; font-size: 14px\; background-color: rgb(255\, 255\, 255)\;" target="_blank">https://springfieldthunderbirds.formstack.com/forms/jan_5th_chicopee_chamber_night</a><br style="color: rgb(29\, 33\, 41)\; font-family: Helvetica\, Arial\, sans-serif\; font-size: 14px\; background-color: rgb(255\, 255\, 255)\;" />\n<br style="color: rgb(29\, 33\, 41)\; font-family: Helvetica\, Arial\, sans-serif\; font-size: 14px\; background-color: rgb(255\, 255\, 255)\;" />\n&nbsp\;
LOCATION:
UID:e.2510.469
SEQUENCE:3
DTSTAMP:20260424T031553Z
URL:https://chicopee-gzcms.preview.gochambermaster.com/events/details/chicopee-chamber-night-at-the-springfield-thunderbirds-469
END:VEVENT

END:VCALENDAR
