BEGIN:VCALENDAR
VERSION:2.0
PRODID:-//ChamberMaster//Event Calendar 2.0//EN
METHOD:PUBLISH
X-PUBLISHED-TTL:P3D
REFRESH-INTERVAL:P3D
CALSCALE:GREGORIAN
BEGIN:VEVENT
DTSTART:20170826T130000Z
DTEND:20170826T140000Z
X-MICROSOFT-CDO-ALLDAYEVENT:FALSE
SUMMARY:City of Chicopee Presents: 1st Annual 5K Road Race
DESCRIPTION:Join your friends and neighbors for the 1st Annual Downtown Getdown 5k!\n\n\n\nRegistration and Start Location:\n\nDavitt Memorial Bridge\, Chicopee Center\n\n\n\nVisit: www.chicopeegetdown.com/getdown-5k-race for course map and more info.\n\n\n\nProfessional Race Timing and Online Registration by ACCU-SPEC\n\nRegister Online at: www.accu-specracing.com\n\nPre-Event Registration Fee RUN: $25\n\nPre-Event Registration Fee WALK: $20\n\nEvent Day Registration Fee RUN: $30\n\nEvent Day Registration Fee WALK: $25\n\n\n\nInclude a Check or Money Order payable to: Fest of All with form: 5K Registration\n\n\n\nThen stay for the fun: Event Flyer!
X-ALT-DESC;FMTTYPE=text/html:<div style="text-align: center\;"><strong>Join your friends and neighbors for the 1st Annual&nbsp\;Downtown Getdown 5k!</strong><br />\n<br />\nRegistration and Start Location:<br />\nDavitt Memorial Bridge\, Chicopee Center<br />\n<br />\nVisit: <a href="http://www.chicopeegetdown.com/getdown-5k-race" target="_blank">www.chicopeegetdown.com/getdown-5k-race</a>&nbsp\;for course map and more info.<br />\n<br />\nProfessional Race Timing and Online Registration by ACCU-SPEC<br />\nRegister Online at: <a href="http://www.accu-specracing.com" target="_blank">www.accu-specracing.com</a><br />\nPre-Event Registration Fee RUN: $25<br />\nPre-Event Registration Fee WALK: $20<br />\nEvent Day Registration Fee RUN: $30<br />\nEvent Day Registration Fee WALK: $25<br />\n<br />\nInclude a Check or Money Order payable to: <strong>Fest of All</strong> with form:&nbsp\;<a href="https://chambermaster.blob.core.windows.net/userfiles/UserFiles/chambers/2510/File/20170803094508.pdf">5K Registration</a><br />\n<br />\nThen stay for the fun:&nbsp\;<a href="https://chambermaster.blob.core.windows.net/userfiles/UserFiles/chambers/2510/File/20170803094435.pdf" style="text-align: center\;">Event Flyer</a>!<span style="text-align: center\;">&nbsp\;</span></div>\n
LOCATION:Downtown Chicopee\, MA
UID:e.2510.325
SEQUENCE:3
DTSTAMP:20260425T175808Z
URL:https://chicopee-gzcms.preview.gochambermaster.com/events/details/city-of-chicopee-presents-1st-annual-5k-road-race-325
END:VEVENT

END:VCALENDAR
