BEGIN:VCALENDAR
VERSION:2.0
PRODID:-//ChamberMaster//Event Calendar 2.0//EN
METHOD:PUBLISH
X-PUBLISHED-TTL:P3D
REFRESH-INTERVAL:P3D
CALSCALE:GREGORIAN
BEGIN:VEVENT
DTSTART:20170126T213000Z
DTEND:20170126T233000Z
X-MICROSOFT-CDO-ALLDAYEVENT:FALSE
SUMMARY:January Business After Hours - Delaney House
DESCRIPTION:Join us at the Delaney House on Thursday\, January 26th from 4:30 - 6:30pm.  Hor d'oeuvres\, cash bar\, raffle prizes and networking!  Luke Baillargeon will be in the Mick starting at 6pm and each person that attends the after hours will receive 10% off their bill at the Mick if you stay after the event.
X-ALT-DESC;FMTTYPE=text/html:Join us at the Delaney House on Thursday\, January 26th from 4:30 - 6:30pm.&nbsp\; Hor d&#39\;oeuvres\, cash bar\, raffle prizes and networking!&nbsp\; Luke Baillargeon will be in the Mick starting at 6pm and each person that attends the after hours will receive 10% off their bill at the Mick if you stay after the event.
LOCATION:Delaney House 3 Country Club Road Holyoke\, MA 01040
UID:e.2510.279
SEQUENCE:3
DTSTAMP:20260426T031704Z
URL:https://chicopee-gzcms.preview.gochambermaster.com/events/details/january-business-after-hours-delaney-house-279
END:VEVENT

END:VCALENDAR
