BEGIN:VCALENDAR
VERSION:2.0
PRODID:-//ChamberMaster//Event Calendar 2.0//EN
METHOD:PUBLISH
X-PUBLISHED-TTL:P3D
REFRESH-INTERVAL:P3D
CALSCALE:GREGORIAN
BEGIN:VEVENT
DTSTART:20180620T111500Z
DTEND:20180620T130000Z
X-MICROSOFT-CDO-ALLDAYEVENT:FALSE
SUMMARY:June Salute Breakfast - Elms College Campus Center
DESCRIPTION:Air Show theme\n\n\n\nChief Greeter: Connie Brown\, Galaxy Community Council\n\nKeynote Speaker: Wing Commander Col. D. Scott Bull Durham - commander of the Air Force Reserve Command's 439th Airlift Wing\, Westover Air Reserve Base\, Mass. \n\n\n\nSalutes\n\n125 Year Anniversary | Holyoke Medical Center\n\n90th Year Anniversary | Elms College\n\nBSoWM Distinguished Citizen Award | Bill Wagner \n\n30th Year Anniversary | Galaxy Community Council\n\n25th Year Anniversary | Aramark@Elms
X-ALT-DESC;FMTTYPE=text/html:<strong>Air Show theme</strong><br />\n<br />\n<strong>Chief Greeter:</strong> Connie Brown\, Galaxy Community Council<br />\n<strong>Keynote Speaker:</strong> Wing Commander Col. D. Scott Bull Durham -&nbsp\;commander of the Air Force Reserve Command&#39\;s 439th Airlift Wing\, Westover Air Reserve Base\, Mass.&nbsp\;<br />\n<br />\n<strong>Salutes</strong><br />\n125 Year Anniversary | Holyoke Medical Center<br />\n90th&nbsp\;Year Anniversary | Elms College<br />\nBSoWM Distinguished Citizen Award | Bill Wagner&nbsp\;<br />\n30th Year Anniversary | Galaxy Community Council<br />\n25th Year Anniversary | Aramark@Elms<br />\n<br />\n&nbsp\;
LOCATION:Elm College - Mary Dooley Center 291 Springfield Street Chicopee\, MA 01020
UID:e.2510.374
SEQUENCE:3
DTSTAMP:20260424T195335Z
URL:https://chicopee-gzcms.preview.gochambermaster.com/events/details/june-salute-breakfast-elms-college-campus-center-374
END:VEVENT

END:VCALENDAR
