BEGIN:VCALENDAR
VERSION:2.0
PRODID:-//ChamberMaster//Event Calendar 2.0//EN
METHOD:PUBLISH
X-PUBLISHED-TTL:P3D
REFRESH-INTERVAL:P3D
CALSCALE:GREGORIAN
BEGIN:VEVENT
DTSTART:20180517T213000Z
DTEND:20180517T233000Z
X-MICROSOFT-CDO-ALLDAYEVENT:FALSE
SUMMARY:MBA Information Session with MBA Panel
DESCRIPTION:Join us for an information session and light dinner where you will have the chance to talk to our recent graduates. They will talk about their experience\, challenges\, successes and life post graduation. This is a great way to get additional feedback on our program\, its benefits and see if it is the right fit for your future. You can RSVP by emailing scliopous@elms.edu.
X-ALT-DESC;FMTTYPE=text/html:<span style="color:rgb(34\, 34\, 34)\; font-family:arial\,sans-serif\; font-size:large">Join us for an</span><span style="color:rgb(34\, 34\, 34)\; font-family:arial\,sans-serif\; font-size:large">&nbsp\;</span><span style="color:rgb(34\, 34\, 34)\; font-family:arial\,sans-serif\; font-size:large">information</span><span style="color:rgb(34\, 34\, 34)\; font-family:arial\,sans-serif\; font-size:large">&nbsp\;</span><span style="color:rgb(34\, 34\, 34)\; font-family:arial\,sans-serif\; font-size:large">session</span><span style="color:rgb(34\, 34\, 34)\; font-family:arial\,sans-serif\; font-size:large">&nbsp\;</span><span style="color:rgb(34\, 34\, 34)\; font-family:arial\,sans-serif\; font-size:large">and light dinner where you will have the chance to talk to our recent graduates. They will talk about their experience\, challenges\, successes and life post graduation. This is a great way to get additional feedback on our program\, its benefits and see if it is the right fit for your future. You can RSVP by emailing scliopous@elms.edu.&nbsp\;</span>
LOCATION:Elms College\, Berchmans Hall 3rd floor MBA Office (left off elevator) 291 Springfield St. Chicopee\, MA 01013
UID:e.2510.421
SEQUENCE:3
DTSTAMP:20260424T222031Z
URL:https://chicopee-gzcms.preview.gochambermaster.com/events/details/mba-information-session-with-mba-panel-421
END:VEVENT

END:VCALENDAR
