BEGIN:VCALENDAR
VERSION:2.0
PRODID:-//ChamberMaster//Event Calendar 2.0//EN
METHOD:PUBLISH
X-PUBLISHED-TTL:P3D
REFRESH-INTERVAL:P3D
CALSCALE:GREGORIAN
BEGIN:VEVENT
DTSTART:20190821T203000Z
DTEND:20190821T233000Z
X-MICROSOFT-CDO-ALLDAYEVENT:FALSE
SUMMARY:Party on the Patio - Chamber Open House
DESCRIPTION:The Greater Chicopee Chamber Party on the Patio Open House will be presented by Westfield Bank on Thursday\, August 21\, 2019 from 4:30- 7:30 PM!\n\n\n\nThe Greater Chicopee Chamber of Commerce will be celebrating Summer with a Party on the Patio. This event has been organized by the Business After Hours Committee and will mix business networking with food\, live entertainment\, and fun!\n\n\n\nLocal Chicopee restaurants will participate in the event to showcase some of the area's favorite flavors including Munich Haus\, Sabor Latino and The Red Fez!  A cash bar offering great beer and wine for your enjoyment will also be available that evening. \n\n\n\nWe can't to see you there!\n\n\n\nFor further information\, including sponsorship opportunities\, call the Chamber at: (413) 594-2101
X-ALT-DESC;FMTTYPE=text/html:The Greater Chicopee Chamber Party on the Patio Open House will be presented by Westfield Bank on Thursday\, August 21\, 2019 from 4:30- 7:30 PM!<br />\n<br />\nThe Greater Chicopee Chamber of Commerce will be celebrating Summer with&nbsp\;a Party on the Patio. This event has been organized by the Business After Hours Committee and will mix business networking with food\, live entertainment\, and fun!<br />\n<br />\nLocal Chicopee restaurants will participate in the event to showcase some of the area&#39\;s favorite flavors including <strong><a href="http://munichhaus.com/">Munich Haus</a></strong>\, <strong><a href="https://www.saborlatinochicopee.com/">Sabor Latino</a></strong> and <strong><a href="https://www.facebook.com/RedFezLoungeBar/">The Red Fez</a></strong>!&nbsp\; A cash bar offering great beer and wine for your enjoyment will also be available that evening.&nbsp\;<br />\n<br />\nWe can&#39\;t to see you there!<br />\n<br />\nFor further information\, including sponsorship opportunities\, call the Chamber at: (413) 594-2101
LOCATION:Chicopee Chamber of Commerce Courtyard behind Building 264 Exchange Street Chicopee\, MA 01020 Ample parking available in our School Street lot
UID:e.2510.525
SEQUENCE:3
DTSTAMP:20260423T155149Z
URL:https://chicopee-gzcms.preview.gochambermaster.com/events/details/party-on-the-patio-chamber-open-house-525
END:VEVENT

END:VCALENDAR
