BEGIN:VCALENDAR
VERSION:2.0
PRODID:-//ChamberMaster//Event Calendar 2.0//EN
METHOD:PUBLISH
X-PUBLISHED-TTL:P3D
REFRESH-INTERVAL:P3D
CALSCALE:GREGORIAN
BEGIN:VEVENT
DTSTART:20191017T113000Z
DTEND:20191017T143000Z
X-MICROSOFT-CDO-ALLDAYEVENT:FALSE
SUMMARY:The Innovative Thinking and Entrepreneurship Lecture Series with Donna Levin
DESCRIPTION:The Innovative Thinking and Entrepreneurship Lecture Series addresses the concepts of innovation and creativity\, with specific emphasis on leadership\, results\, and the process of innovation. The event provides a platform for discussion and dialogue with business leaders who embrace risk-taking\, creativity\, innovation\, and new ways of doing business. Doors open for breakfast and networking at 7:30 AM in Blake Student Commons. Donna Levin speaks at 8:15 AM.
X-ALT-DESC;FMTTYPE=text/html:The Innovative Thinking and Entrepreneurship Lecture Series addresses the concepts of innovation and creativity\, with specific emphasis on leadership\, results\, and the process of innovation. The event provides a platform for discussion and dialogue with business leaders who embrace risk-taking\, creativity\, innovation\, and new ways of doing business. Doors open for breakfast and networking at 7:30 AM in Blake Student Commons. Donna Levin speaks at 8:15 AM.
LOCATION:Bay Path University\, Blake Student Commons
UID:e.2510.543
SEQUENCE:3
DTSTAMP:20260423T184755Z
URL:https://chicopee-gzcms.preview.gochambermaster.com/events/details/the-innovative-thinking-and-entrepreneurship-lecture-series-with-donna-levin-543
END:VEVENT

END:VCALENDAR
