BEGIN:VCALENDAR
VERSION:2.0
PRODID:-//ChamberMaster//Event Calendar 2.0//EN
METHOD:PUBLISH
X-PUBLISHED-TTL:P3D
REFRESH-INTERVAL:P3D
CALSCALE:GREGORIAN
BEGIN:VEVENT
DTSTART:20180515T143000Z
DTEND:20180515T160000Z
X-MICROSOFT-CDO-ALLDAYEVENT:FALSE
SUMMARY:TRU by Hilton Ribbon Cutting Ceremony
DESCRIPTION:Join Us!\n\nRichard Kos\, Mayor of Chicopee\n\nAlexandra Jartiz\, Global Head of TRU by Hilton\n\nChip Rogers\, President & CEO of AAHOA\n\nand BK Investments\n\ncordially invite you to the TRU by Hilton Chicopee\n\nRIBBON CUTTING CEREMONY
X-ALT-DESC;FMTTYPE=text/html:<div style="text-align:center"><span style="font-size:16px"><span style="color:#800080"><span style="font-family:verdana"><strong>Join Us!</strong></span></span></span></div>\n\n<div style="text-align:center"><span style="font-size:16px"><span style="color:#4B0082"><span style="font-family:verdana"><em><strong>Richard Kos</strong>\, Mayor of Chicopee</em><br />\n<strong><em>Alexandra </em></strong></span></span></span><strong><span style="font-size:14px"><span style="font-family:verdana"><em><span style="font-size:16px"><strong><span style="color:#4B0082">Jartiz</span></strong></span></em></span></span></strong><span style="font-size:16px"><span style="font-family:verdana"><span style="color:#4B0082"><em>\, Global Head of TRU by Hilton</em><br />\n<em><strong>Chip Rogers</strong>\, President &amp\; CEO of AAHOA</em><br />\nand <strong>BK Investments</strong></span><br />\n<span style="color:#800080">cordially invite you to the </span><span style="color:#3366ff">TRU by Hilton</span><span style="color:#800080"> Chicopee<br />\n<span style="background-color:rgb(255\, 255\, 255)">RIBBON CUTTING CEREMONY</span></span></span></span></div>\n
LOCATION:TRU by Hilton 440 Memorial Drive Chicopee\, MA 01020
UID:e.2510.435
SEQUENCE:3
DTSTAMP:20260424T211056Z
URL:https://chicopee-gzcms.preview.gochambermaster.com/events/details/tru-by-hilton-ribbon-cutting-ceremony-435
END:VEVENT

END:VCALENDAR
