BEGIN:VCALENDAR
VERSION:2.0
PRODID:-//ChamberMaster//Event Calendar 2.0//EN
METHOD:PUBLISH
X-PUBLISHED-TTL:P3D
REFRESH-INTERVAL:P3D
CALSCALE:GREGORIAN
BEGIN:VEVENT
DTSTART:20190518T130000Z
DTEND:20190518T160000Z
X-MICROSOFT-CDO-ALLDAYEVENT:FALSE
SUMMARY:YPS Adult Field Day
DESCRIPTION:YPS is excited to announce its 3rd Annual Adult Field Day!  Get your game face on and join YPS for a throw back to elementary school\, built with adults in mind. Do you have what it takes to win? Ages 18+ only This year\, we're partnering with Train for Life and Extra Innings - Chicopee to transform their gym and indoor field for a team competition unlike any other in the area!  Special thanks to our presenting sponsor\, PeoplesBank! The event features lunch\, t-shirts\, music from DJ Anomaly at Vision Entertainment LLC\, White Lion Brewing Company\, scavenger hunt\, prizes\, new events - and even more fun! $25 per person for YPS/Train for Life/Extra Innings members. $35 per person for non-non-members.    All registrations must be made individually. Please confirm your team name/teammate(s) when signing up or email admin@springfieldyps.com Enter your team of up to six or register by May 13th to be added to a team. Please include your t-shirt size with registration. Make sure to enter your team of 4-6\, individuals also accepted until May 11th. Please include your t-shirt size with registration. T-shirt and lunch are included in your registration cost. Make sure to get your registration in\, so we can guarantee your preferred t-shirt size. The winning team will choose their favorite charity for a donation from YPS Cares. Thank you to our sponsors! Gold Level Sponsor & Lunch Sponsor: 350 Grill Steak House Gold Level Sponsor: Performance Food Group Silver Sponsor: Marcotte Ford Sunshine Village Bronze Level Sponsors: Beauty Batlles by Ashley Chikmedia Liz Persch\, local Sales Representative at Liberty Mutual Insurance Group" Sponsorships available! Please email admin@springfieldyps.com for more info.
X-ALT-DESC;FMTTYPE=text/html:YPS is excited to announce its 3rd Annual Adult Field Day!&nbsp\; Get your game face on and join YPS for a throw back to elementary school\, built with adults in mind. Do you have what it takes to win? Ages 18+ only This year\, we&#39\;re partnering with&nbsp\;Train for Life&nbsp\;and&nbsp\;Extra Innings - Chicopee&nbsp\;to transform their gym and indoor field for a team competition unlike any other in the area!&nbsp\; Special thanks to our presenting sponsor\,&nbsp\;PeoplesBank! The event features lunch\, t-shirts\, music from DJ Anomaly at Vision Entertainment LLC\,&nbsp\;White Lion Brewing Company\, scavenger hunt\, prizes\, new events - and even more fun! $25 per person for YPS/Train for Life/Extra Innings members. $35 per person for non-non-members.&nbsp\; &nbsp\; All registrations must be made individually. Please confirm your team name/teammate(s) when signing up or email admin@springfieldyps.com Enter your team of up to six or register by May 13th to be added to a team. Please include your t-shirt size with registration. Make sure to enter your team of 4-6\, individuals also accepted until May 11th. Please include your t-shirt size with registration. T-shirt and lunch are included in your registration cost. Make sure to get your registration in\, so we can guarantee your preferred t-shirt size. The winning team will choose their favorite charity for a donation from YPS Cares. Thank you to our sponsors! Gold Level Sponsor &amp\; Lunch Sponsor: 350 Grill Steak House Gold Level Sponsor: Performance Food Group Silver Sponsor: Marcotte Ford Sunshine Village Bronze Level Sponsors: Beauty Batlles by Ashley Chikmedia Liz Persch\, local Sales Representative at&nbsp\;Liberty Mutual Insurance Group&rdquo\; Sponsorships available! Please email admin@springfieldyps.com for more info.&nbsp\; &nbsp\;
LOCATION:Train For Life and Extra Innings Chicopee located at 340 McInstry Ave.\, Chicopee
UID:e.2510.517
SEQUENCE:3
DTSTAMP:20260423T202024Z
URL:https://chicopee-gzcms.preview.gochambermaster.com/events/details/yps-adult-field-day-517
END:VEVENT

END:VCALENDAR
